BEGIN:VCALENDAR
VERSION:2.0
PRODID:Douglas County Library, MN Calendar Creator
METHOD:PUBLISH
BEGIN:VEVENT
DTSTAMP:20230508T142343
DTSTART:20230504T180000
DTEND:20230504T190000
SUMMARY:Beginning Gardening
DESCRIPTION:<p>Experienced gardener Diana Cason will guide you through the beginning steps of gardening.</p>
X-ALT-DESC;FMTTYPE=text/html:<p>Experienced gardener Diana Cason will guide you through the beginning steps of gardening.</p>
LOCATION:Douglas County Library\, 720 Filmore Street Alexandria\, Minnesota 56308
CLASS:PUBLIC
END:VEVENT
END:VCALENDAR
