BEGIN:VCALENDAR
VERSION:2.0
PRODID:Douglas County Library, MN Calendar Creator
METHOD:PUBLISH
BEGIN:VEVENT
DTSTAMP:20230404T121317
DTSTART:20230424T140000
DTEND:20230424T143000
SUMMARY:Computer Basics
DESCRIPTION:<p>Come to the Library on April 24th at 2 PM for a Beginner's Computer Class!<br><br>In this roughly 30 minute class, we'll go over the different parts of a computer, how to get started with Windows, Running Programs, and File and Folder Organization.</p><p>The class will be in the Conference Room and laptops will be provided, or bring your own!</p><p>&nbsp;</p><p>&nbsp;</p>
X-ALT-DESC;FMTTYPE=text/html:<p>Come to the Library on April 24th at 2 PM for a Beginner's Computer Class!<br><br>In this roughly 30 minute class, we'll go over the different parts of a computer, how to get started with Windows, Running Programs, and File and Folder Organization.</p><p>The class will be in the Conference Room and laptops will be provided, or bring your own!</p><p>&nbsp;</p><p>&nbsp;</p>
LOCATION:Douglas County Library\, 720 Filmore Street Alexandria\, Minnesota 56308
CLASS:PUBLIC
END:VEVENT
END:VCALENDAR
