BEGIN:VCALENDAR
VERSION:2.0
PRODID:Douglas County Library, MN Calendar Creator
METHOD:PUBLISH
BEGIN:VEVENT
DTSTAMP:20230508T142639
DTSTART:20230706T130000
DTEND:20230706T140000
SUMMARY:FilmTalks: Elizabeth Taylor
DESCRIPTION:<p>She was one of the most admired and talked about women in the&nbsp;world, the ultimate movie star who lived her entire life in the public eye. The magnificent Elizabeth Taylor captured audiences from the time she appeared in great family films such as National Velvet, and grew up in Father of the Bride, and embraced her full power with fantastic roles in Giant, Who’s Afraid of Virginia Woolf?, A Place in the Sun, and more. We’ll see the single greatest entrance in cinema history with Ms. Taylor’s entrance into Rome in Cleopatra. Join us as we celebrate one of the most famous movie stars of all time, the unforgettable Elizabeth Taylor.</p><p>&nbsp;</p><p>&nbsp;This event is available in the Library and online. <a href="https://douglascountylibrary.libcal.com/event/10586288" target="_blank">Please register here.</a></p><p></p>
X-ALT-DESC;FMTTYPE=text/html:<p>She was one of the most admired and talked about women in the&nbsp;world, the ultimate movie star who lived her entire life in the public eye. The magnificent Elizabeth Taylor captured audiences from the time she appeared in great family films such as National Velvet, and grew up in Father of the Bride, and embraced her full power with fantastic roles in Giant, Who’s Afraid of Virginia Woolf?, A Place in the Sun, and more. We’ll see the single greatest entrance in cinema history with Ms. Taylor’s entrance into Rome in Cleopatra. Join us as we celebrate one of the most famous movie stars of all time, the unforgettable Elizabeth Taylor.</p><p>&nbsp;</p><p>&nbsp;This event is available in the Library and online. <a href="https://douglascountylibrary.libcal.com/event/10586288" target="_blank">Please register here.</a></p><p></p>
LOCATION:Douglas County Library\, 720 Filmore Street Alexandria\, Minnesota 56308
CLASS:PUBLIC
END:VEVENT
END:VCALENDAR
