BEGIN:VCALENDAR
VERSION:2.0
PRODID:Douglas County Library, MN Calendar Creator
METHOD:PUBLISH
BEGIN:VEVENT
DTSTAMP:20230508T142605
DTSTART:20230615T130000
DTEND:20230615T140000
SUMMARY:FilmTalks: Bob Hope
DESCRIPTION:<p>Join us in discovering the groundbreaking work, and hilarious jokes of one of the most iconic figures of the 20th century — Bob Hope. He conquered every field of entertainment—stage, radio, film, and television! And traveled over a million miles entertaining our troops for most of his life. Come enjoy this program about this classic smart aleck!</p><p>&nbsp;This event is available in the Library and online. <a href="https://douglascountylibrary.libcal.com/event/10586258" target="_blank">Please register here.</a></p><p></p>
X-ALT-DESC;FMTTYPE=text/html:<p>Join us in discovering the groundbreaking work, and hilarious jokes of one of the most iconic figures of the 20th century — Bob Hope. He conquered every field of entertainment—stage, radio, film, and television! And traveled over a million miles entertaining our troops for most of his life. Come enjoy this program about this classic smart aleck!</p><p>&nbsp;This event is available in the Library and online. <a href="https://douglascountylibrary.libcal.com/event/10586258" target="_blank">Please register here.</a></p><p></p>
LOCATION:Douglas County Library\, 720 Filmore Street Alexandria\, Minnesota 56308
CLASS:PUBLIC
END:VEVENT
END:VCALENDAR
