BEGIN:VCALENDAR
VERSION:2.0
PRODID:Douglas County Library, MN Calendar Creator
METHOD:PUBLISH
BEGIN:VEVENT
DTSTAMP:20230508T142509
DTSTART:20230525T130000
DTEND:20230525T140000
SUMMARY:FilmTalks: Audrey Hepburn
DESCRIPTION:<p>As kind and talented as she was beautiful, Audrey Hepburn was one of the most beloved figures of the 20th century. Join us to learn many personal stories about Ms. Hepburn (including her fascinating connection to Anne Frank), as well as enjoy scenes from her greatest films, such as Roman Holiday, Funny Face, and Breakfast at Tiffany’s. What’s the story behind “Moon River”? When was the only time Audrey stormed off a movie set (and what did she do when she returned the next day)? We have these stories and more - plus Audrey’s original vocals for My Fair Lady, before she was dubbed by Marni Nixon! Spend time with the lovely and sweet Audrey Hepburn in this wonderful film program!</p><p>&nbsp;</p><p>&nbsp;This event is available in the Library and online. <a href="https://douglascountylibrary.libcal.com/event/10586246" target="_blank">Please register here.</a></p><p></p>
X-ALT-DESC;FMTTYPE=text/html:<p>As kind and talented as she was beautiful, Audrey Hepburn was one of the most beloved figures of the 20th century. Join us to learn many personal stories about Ms. Hepburn (including her fascinating connection to Anne Frank), as well as enjoy scenes from her greatest films, such as Roman Holiday, Funny Face, and Breakfast at Tiffany’s. What’s the story behind “Moon River”? When was the only time Audrey stormed off a movie set (and what did she do when she returned the next day)? We have these stories and more - plus Audrey’s original vocals for My Fair Lady, before she was dubbed by Marni Nixon! Spend time with the lovely and sweet Audrey Hepburn in this wonderful film program!</p><p>&nbsp;</p><p>&nbsp;This event is available in the Library and online. <a href="https://douglascountylibrary.libcal.com/event/10586246" target="_blank">Please register here.</a></p><p></p>
LOCATION:Douglas County Library\, 720 Filmore Street Alexandria\, Minnesota 56308
CLASS:PUBLIC
END:VEVENT
END:VCALENDAR
