BEGIN:VCALENDAR
VERSION:2.0
PRODID:Douglas County Library, MN Calendar Creator
METHOD:PUBLISH
BEGIN:VEVENT
DTSTAMP:20230330T141230
DTSTART:20230504T130000
DTEND:20230504T140000
SUMMARY:Gene Kelly
DESCRIPTION:<p>Gene Kelly was one of the most powerful and graceful dancers in Hollywood history He performed with all the greats, and designed and choreographed many of the most groundbreaking (and fun!) dance numbers in film history. Why did MGM regret loaning Gene out to another studio? Who was his favorite dance partner? Learn the answers to these questions and more in this lively film program!</p><p>&nbsp;</p><p>&nbsp;This event is available in the Library and online. <a href="https://douglascountylibrary.libcal.com/event/10586245" target="_blank">Please register here.</a></p><p></p>
X-ALT-DESC;FMTTYPE=text/html:<p>Gene Kelly was one of the most powerful and graceful dancers in Hollywood history He performed with all the greats, and designed and choreographed many of the most groundbreaking (and fun!) dance numbers in film history. Why did MGM regret loaning Gene out to another studio? Who was his favorite dance partner? Learn the answers to these questions and more in this lively film program!</p><p>&nbsp;</p><p>&nbsp;This event is available in the Library and online. <a href="https://douglascountylibrary.libcal.com/event/10586245" target="_blank">Please register here.</a></p><p></p>
LOCATION:Douglas County Library\, 720 Filmore Street Alexandria\, Minnesota 56308
CLASS:PUBLIC
END:VEVENT
END:VCALENDAR
