BEGIN:VCALENDAR
VERSION:2.0
PRODID:Douglas County Library, MN Calendar Creator
METHOD:PUBLISH
BEGIN:VEVENT
DTSTAMP:20230404T062128
DTSTART:20230413T130000
DTEND:20230413T140000
SUMMARY:We Love Lucy
DESCRIPTION:<p>Come laugh along with one of the funniest and bravest women in movie and television history. This program features many of the greatest “I Love Lucy” scenes ever! We’ll see fascinating clips from Lucy’s early movie career as she transforms from a nervous and timid Lucille Ball into the great and fearless Lucy!</p><p>&nbsp;This event is available in the Library and online. <a href="https://douglascountylibrary.libcal.com/event/10586240" target="_blank">Please register here.</a></p><p><em>&nbsp;</em></p><p><em>This program is sponsored by </em><em>Douglas County Library and Viking Library System.</em><em></em></p><p><em>This project was funded in part or in whole with monies from Minnesota’s Arts and Cultural Heritage fund.</em></p><p><em></em></p><p>&nbsp;</p><p></p>
X-ALT-DESC;FMTTYPE=text/html:<p>Come laugh along with one of the funniest and bravest women in movie and television history. This program features many of the greatest “I Love Lucy” scenes ever! We’ll see fascinating clips from Lucy’s early movie career as she transforms from a nervous and timid Lucille Ball into the great and fearless Lucy!</p><p>&nbsp;This event is available in the Library and online. <a href="https://douglascountylibrary.libcal.com/event/10586240" target="_blank">Please register here.</a></p><p><em>&nbsp;</em></p><p><em>This program is sponsored by </em><em>Douglas County Library and Viking Library System.</em><em></em></p><p><em>This project was funded in part or in whole with monies from Minnesota’s Arts and Cultural Heritage fund.</em></p><p><em></em></p><p>&nbsp;</p><p></p>
LOCATION:Douglas County Library\, 720 Filmore Street Alexandria\, Minnesota 56308
CLASS:PUBLIC
END:VEVENT
END:VCALENDAR
