BEGIN:VCALENDAR
VERSION:2.0
PRODID:Douglas County Library, MN Calendar Creator
METHOD:PUBLISH
BEGIN:VEVENT
DTSTAMP:20220627T120037
DTSTART:20220720T153000
DTEND:20220720T163000
SUMMARY:Cricut Can Coozies for Adults
DESCRIPTION:<p>Design your own can coozie with the library’s cricut machines and heat presses. This program is for adults. Please call 320-762-3014 to register.</p><p><strong>Organizer</strong>:</p><p>Dawn Dailey<br>Library Director<br>320-762-3014<br><a href="mailto:&#100;&#100;&#97;&#105;&#108;&#101;&#121;&#64;&#100;&#111;&#117;&#103;&#108;&#97;&#115;&#99;&#111;&#117;&#110;&#116;&#121;&#108;&#105;&#98;&#114;&#97;&#114;&#121;&#46;&#111;&#114;&#103;">ddailey@douglascountylibrary.org</a></p>
X-ALT-DESC;FMTTYPE=text/html:<p>Design your own can coozie with the library’s cricut machines and heat presses. This program is for adults. Please call 320-762-3014 to register.</p><p><strong>Organizer</strong>:</p><p>Dawn Dailey<br>Library Director<br>320-762-3014<br><a href="mailto:&#100;&#100;&#97;&#105;&#108;&#101;&#121;&#64;&#100;&#111;&#117;&#103;&#108;&#97;&#115;&#99;&#111;&#117;&#110;&#116;&#121;&#108;&#105;&#98;&#114;&#97;&#114;&#121;&#46;&#111;&#114;&#103;">ddailey@douglascountylibrary.org</a></p>
LOCATION:Douglas County Library\, 720 Filmore Street Alexandria\, Minnesota 56308
CLASS:PUBLIC
END:VEVENT
END:VCALENDAR
