BEGIN:VCALENDAR
VERSION:2.0
PRODID:Douglas County Library, MN Calendar Creator
METHOD:PUBLISH
BEGIN:VEVENT
DTSTAMP:20230320T102401
DTSTART:20230415T130000
DTEND:20230415T140000
SUMMARY:Author Hour: Jonathan C. Slaght
DESCRIPTION:<p>Author, journalist, and photographer Jonathan C. Slaght will be at the Douglas County Library on Saturday, April 15, 2023.  Jonathan is a wildlife biologist for the Wildlife Conservation Society and one of the world’s foremost experts on Blakiston’s fish owl. His book <i>“Owls of the Eastern Ice” </i>earned the Minnesota Book Award (general nonfiction) in 2021.&nbsp;</p><p> Jonathan will be at the library from 1:00 pm to 2:00 pm. Join us for a lively conversation about his efforts to save the world's largest owl and his nonfiction writing. This will be followed by a 30-minute Q &amp; A and book signing.&nbsp;</p>
X-ALT-DESC;FMTTYPE=text/html:<p>Author, journalist, and photographer Jonathan C. Slaght will be at the Douglas County Library on Saturday, April 15, 2023.  Jonathan is a wildlife biologist for the Wildlife Conservation Society and one of the world’s foremost experts on Blakiston’s fish owl. His book <i>“Owls of the Eastern Ice” </i>earned the Minnesota Book Award (general nonfiction) in 2021.&nbsp;</p><p> Jonathan will be at the library from 1:00 pm to 2:00 pm. Join us for a lively conversation about his efforts to save the world's largest owl and his nonfiction writing. This will be followed by a 30-minute Q &amp; A and book signing.&nbsp;</p>
LOCATION:Douglas County Library\, 720 Filmore Street Alexandria\, Minnesota 56308
CLASS:PUBLIC
END:VEVENT
END:VCALENDAR
