BEGIN:VCALENDAR
VERSION:2.0
PRODID:Douglas County Library, MN Calendar Creator
METHOD:PUBLISH
BEGIN:VEVENT
DTSTAMP:20230310T142605
DTSTART:20230320T180000
DTEND:20230320T190000
SUMMARY:Spring Flowers with Cricut
DESCRIPTION:<p>&nbsp;<a href="https://douglascountylibrary.libcal.com/event/10511325" target="_blank">Please register here.</a></p><p></p>
X-ALT-DESC;FMTTYPE=text/html:<p>&nbsp;<a href="https://douglascountylibrary.libcal.com/event/10511325" target="_blank">Please register here.</a></p><p></p>
LOCATION:Douglas County Library\, 720 Filmore Street Alexandria\, Minnesota 56308
CLASS:PUBLIC
END:VEVENT
END:VCALENDAR
