BEGIN:VCALENDAR
VERSION:2.0
PRODID:Douglas County Library, MN Calendar Creator
METHOD:PUBLISH
BEGIN:VEVENT
DTSTAMP:20230227T144522
DTSTART:20230403T120000
DTEND:20230403T130000
SUMMARY:Timely Topics
DESCRIPTION:<p>A casual discussion group&nbsp;with a mix of current events, articles, and TED Talks.</p><p>Bring your lunch, let's chat!</p><p></p>
X-ALT-DESC;FMTTYPE=text/html:<p>A casual discussion group&nbsp;with a mix of current events, articles, and TED Talks.</p><p>Bring your lunch, let's chat!</p><p></p>
LOCATION:Douglas County Library\, 720 Filmore Street Alexandria\, Minnesota 56308
CLASS:PUBLIC
END:VEVENT
END:VCALENDAR
