BEGIN:VCALENDAR
VERSION:2.0
PRODID:Douglas County Library, MN Calendar Creator
METHOD:PUBLISH
BEGIN:VEVENT
DTSTAMP:20220627T115247
DTSTART:20220718T100000
DTEND:20220718T110000
SUMMARY:Speaker Dr. Joseph Gaugler (A Douglas County Library Community Read Event)
DESCRIPTION:<p>Sponsored by Bethany on the Lake.</p><p><strong>Dr. Joseph Gaugler</strong><br>Professor, Division of Health Policy and Management(School of Public Health, Twin Cities)<br>Director, Center of Aging</p><p>Dr. Gaugler’s research examines the sources and effectiveness of long-term care for persons with Alzheimer’s disease and other chronic conditions. An applied gerontologist, Dr. Gaugler’s interests include Alzheimer’s disease and long-term care, the longitudinal ramifications of family care for persons with dementia and other chronic conditions, and the effectiveness of community-based and psychosocial services for older adults with dementia and their caregiving families.</p><p>Join Gaugler’s discussion about Dementia and Alzheimer’s.</p><p><strong>Organizer</strong>:</p><p>Dawn Dailey<br>Library Director<br>320-762-3014<br><a href="mailto:&#100;&#100;&#97;&#105;&#108;&#101;&#121;&#64;&#100;&#111;&#117;&#103;&#108;&#97;&#115;&#99;&#111;&#117;&#110;&#116;&#121;&#108;&#105;&#98;&#114;&#97;&#114;&#121;&#46;&#111;&#114;&#103;">ddailey@douglascountylibrary.org</a></p><p></p>
X-ALT-DESC;FMTTYPE=text/html:<p>Sponsored by Bethany on the Lake.</p><p><strong>Dr. Joseph Gaugler</strong><br>Professor, Division of Health Policy and Management(School of Public Health, Twin Cities)<br>Director, Center of Aging</p><p>Dr. Gaugler’s research examines the sources and effectiveness of long-term care for persons with Alzheimer’s disease and other chronic conditions. An applied gerontologist, Dr. Gaugler’s interests include Alzheimer’s disease and long-term care, the longitudinal ramifications of family care for persons with dementia and other chronic conditions, and the effectiveness of community-based and psychosocial services for older adults with dementia and their caregiving families.</p><p>Join Gaugler’s discussion about Dementia and Alzheimer’s.</p><p><strong>Organizer</strong>:</p><p>Dawn Dailey<br>Library Director<br>320-762-3014<br><a href="mailto:&#100;&#100;&#97;&#105;&#108;&#101;&#121;&#64;&#100;&#111;&#117;&#103;&#108;&#97;&#115;&#99;&#111;&#117;&#110;&#116;&#121;&#108;&#105;&#98;&#114;&#97;&#114;&#121;&#46;&#111;&#114;&#103;">ddailey@douglascountylibrary.org</a></p><p></p>
LOCATION:Douglas County Library\, 720 Filmore Street Alexandria\, Minnesota 56308
CLASS:PUBLIC
END:VEVENT
END:VCALENDAR
