BEGIN:VCALENDAR
VERSION:2.0
PRODID:Douglas County Library, MN Calendar Creator
METHOD:PUBLISH
BEGIN:VEVENT
DTSTAMP:20220627T114708
DTSTART:20220714T110000
DTEND:20220714T120000
SUMMARY:George of the Juggle
DESCRIPTION:<p>This free event is fun for all ages. See George of the Juggle perform magic, juggling, and silly stunts! Join us in the library’s big meeting room.<strong>Thank you to the Douglas County Library Friends and Foundation for sponsoring this summer reading program</strong>!</p><p><strong>Organizer</strong>:</p><p>Sarah Wethern<br>Youth Librarian<br>320-762-3013<br><a href="mailto:&#115;&#119;&#101;&#116;&#104;&#101;&#114;&#110;&#64;&#100;&#111;&#117;&#103;&#108;&#97;&#115;&#99;&#111;&#117;&#110;&#116;&#121;&#108;&#105;&#98;&#114;&#97;&#114;&#121;&#46;&#111;&#114;&#103;">swethern@douglascountylibrary.org</a></p>
X-ALT-DESC;FMTTYPE=text/html:<p>This free event is fun for all ages. See George of the Juggle perform magic, juggling, and silly stunts! Join us in the library’s big meeting room.<strong>Thank you to the Douglas County Library Friends and Foundation for sponsoring this summer reading program</strong>!</p><p><strong>Organizer</strong>:</p><p>Sarah Wethern<br>Youth Librarian<br>320-762-3013<br><a href="mailto:&#115;&#119;&#101;&#116;&#104;&#101;&#114;&#110;&#64;&#100;&#111;&#117;&#103;&#108;&#97;&#115;&#99;&#111;&#117;&#110;&#116;&#121;&#108;&#105;&#98;&#114;&#97;&#114;&#121;&#46;&#111;&#114;&#103;">swethern@douglascountylibrary.org</a></p>
LOCATION:Douglas County Library\, 720 Filmore Street Alexandria\, Minnesota 56308
CLASS:PUBLIC
END:VEVENT
END:VCALENDAR
