BEGIN:VCALENDAR
VERSION:2.0
PRODID:Douglas County Library, MN Calendar Creator
METHOD:PUBLISH
BEGIN:VEVENT
DTSTAMP:20220627T120255
DTSTART:20220713T133000
DTEND:20220713T153000
SUMMARY:Read Beyond the Beaten Path: Hogwarts House Trivia Tournament
DESCRIPTION:<p><strong>This program is for teens only. Sign up at the front desk or by messaging us on our Instagram or Facebook page</strong>.</p><p>This summer, DCL is hosting the first annual Hogwarts House Trivia Tournament! Compete for the honor of your house, and use your knowledge of everything Harry Potter to claim the House trophy! Dress up encouraged! This program is for grades 6-12.</p><p><strong>Organizer</strong>:</p><p>Holly Leftridge<br>Teen Services Librarian<br>320-762-3014<br><a href="mailto:&#104;&#108;&#101;&#102;&#116;&#114;&#105;&#100;&#103;&#101;&#64;&#100;&#111;&#117;&#103;&#108;&#97;&#115;&#99;&#111;&#117;&#110;&#116;&#121;&#108;&#105;&#98;&#114;&#97;&#114;&#121;&#46;&#111;&#114;&#103;">hleftridge@douglascountylibrary.org</a></p>
X-ALT-DESC;FMTTYPE=text/html:<p><strong>This program is for teens only. Sign up at the front desk or by messaging us on our Instagram or Facebook page</strong>.</p><p>This summer, DCL is hosting the first annual Hogwarts House Trivia Tournament! Compete for the honor of your house, and use your knowledge of everything Harry Potter to claim the House trophy! Dress up encouraged! This program is for grades 6-12.</p><p><strong>Organizer</strong>:</p><p>Holly Leftridge<br>Teen Services Librarian<br>320-762-3014<br><a href="mailto:&#104;&#108;&#101;&#102;&#116;&#114;&#105;&#100;&#103;&#101;&#64;&#100;&#111;&#117;&#103;&#108;&#97;&#115;&#99;&#111;&#117;&#110;&#116;&#121;&#108;&#105;&#98;&#114;&#97;&#114;&#121;&#46;&#111;&#114;&#103;">hleftridge@douglascountylibrary.org</a></p>
LOCATION:Douglas County Library\, 720 Filmore Street Alexandria\, Minnesota 56308
CLASS:PUBLIC
END:VEVENT
END:VCALENDAR
