BEGIN:VCALENDAR
VERSION:2.0
PRODID:Douglas County Library, MN Calendar Creator
METHOD:PUBLISH
BEGIN:VEVENT
DTSTAMP:20230221T091518
DTSTART:20230223T180000
DTEND:20230223T190000
SUMMARY:Author Hour: Frank Weber
DESCRIPTION:<p>THIS EVENT HAS BEEN RESCHEDULED DUE TO WEATHER.</p><p>&nbsp;</p><p>&nbsp;</p><p></p>
X-ALT-DESC;FMTTYPE=text/html:<p>THIS EVENT HAS BEEN RESCHEDULED DUE TO WEATHER.</p><p>&nbsp;</p><p>&nbsp;</p><p></p>
LOCATION:Douglas County Library\, 720 Filmore Street Alexandria\, Minnesota 56308
CLASS:PUBLIC
END:VEVENT
END:VCALENDAR
