BEGIN:VCALENDAR
VERSION:2.0
PRODID:Douglas County Library, MN Calendar Creator
METHOD:PUBLISH
BEGIN:VEVENT
DTSTAMP:20230215T092425
DTSTART:20220713T130000
DTEND:20220713T140000
SUMMARY:Library Book Club
DESCRIPTION:<p>Join the Douglas County Library Book Club! Meets the second Wednesday of every month at 1:00PM beginning May 11, 2022. Open to the public!</p><p>Here are the upcoming titles:</p><ul>    <li>July 13, 2022: Everything Here is Beautiful by Mira Lee    </li>    <li>August 10, 2022: Maybe in Another Life by Taylor Reid    </li>    <li>September 14, 2022: We Begin at the End by Chris Whitaker    </li></ul><p><strong>Organizer</strong>:</p><p>Dawn Dailey<br>Library Director<br>320-762-3014<br><a href="mailto:&#100;&#100;&#97;&#105;&#108;&#101;&#121;&#64;&#100;&#111;&#117;&#103;&#108;&#97;&#115;&#99;&#111;&#117;&#110;&#116;&#121;&#108;&#105;&#98;&#114;&#97;&#114;&#121;&#46;&#111;&#114;&#103;">ddailey@douglascountylibrary.org</a></p>
X-ALT-DESC;FMTTYPE=text/html:<p>Join the Douglas County Library Book Club! Meets the second Wednesday of every month at 1:00PM beginning May 11, 2022. Open to the public!</p><p>Here are the upcoming titles:</p><ul>    <li>July 13, 2022: Everything Here is Beautiful by Mira Lee    </li>    <li>August 10, 2022: Maybe in Another Life by Taylor Reid    </li>    <li>September 14, 2022: We Begin at the End by Chris Whitaker    </li></ul><p><strong>Organizer</strong>:</p><p>Dawn Dailey<br>Library Director<br>320-762-3014<br><a href="mailto:&#100;&#100;&#97;&#105;&#108;&#101;&#121;&#64;&#100;&#111;&#117;&#103;&#108;&#97;&#115;&#99;&#111;&#117;&#110;&#116;&#121;&#108;&#105;&#98;&#114;&#97;&#114;&#121;&#46;&#111;&#114;&#103;">ddailey@douglascountylibrary.org</a></p>
LOCATION:Douglas County Library\, 720 Filmore Street Alexandria\, Minnesota 56308
CLASS:PUBLIC
END:VEVENT
END:VCALENDAR
