BEGIN:VCALENDAR
VERSION:2.0
PRODID:Douglas County Library, MN Calendar Creator
METHOD:PUBLISH
BEGIN:VEVENT
DTSTAMP:20230207T144830
DTSTART:20230218T133000
DTEND:20230218T143000
SUMMARY:Author Hour: Danith McPherson
DESCRIPTION:<p></p>
X-ALT-DESC;FMTTYPE=text/html:<p></p>
LOCATION:Douglas County Library\, 720 Filmore Street Alexandria\, Minnesota 56308
CLASS:PUBLIC
END:VEVENT
END:VCALENDAR
