BEGIN:VCALENDAR
VERSION:2.0
PRODID:Douglas County Library, MN Calendar Creator
METHOD:PUBLISH
BEGIN:VEVENT
DTSTAMP:20230207T145701
DTSTART:20230208T130000
DTEND:20230208T140000
SUMMARY:Douglas County Library Book Group
DESCRIPTION:<p>The Douglas County Library Book Group meets the 2<sup>nd&nbsp;</sup>Wednesday of every month at 1:00 pm.</p><p> Open to the public!</p><p>February's read:</p><p><em>The Personal Librarian</em> by Marie Benedict &amp; Victoria Christopher Murray</p><p></p>
X-ALT-DESC;FMTTYPE=text/html:<p>The Douglas County Library Book Group meets the 2<sup>nd&nbsp;</sup>Wednesday of every month at 1:00 pm.</p><p> Open to the public!</p><p>February's read:</p><p><em>The Personal Librarian</em> by Marie Benedict &amp; Victoria Christopher Murray</p><p></p>
LOCATION:Douglas County Library\, 720 Filmore Street Alexandria\, Minnesota 56308
CLASS:PUBLIC
END:VEVENT
END:VCALENDAR
